BEGIN:VCALENDAR
VERSION:2.0
PRODID:icalendar-ruby
CALSCALE:GREGORIAN
METHOD:PUBLISH
BEGIN:VEVENT
DTSTAMP:20260421T151916Z
UID:10-1411300@abidingsavior.info
DTSTART:20261101T160000Z
DTEND:20261101T170000Z
CLASS:PUBLIC
CREATED:20260421T105531
DESCRIPTION:
LAST-MODIFIED:20260421T105531
LOCATION:
SUMMARY:Sunday Divine Service
URL;VALUE=URI:https://abidingsavior.info/events/sunday-divine-service/2026-
 11-01
END:VEVENT
END:VCALENDAR
