BEGIN:VCALENDAR
VERSION:2.0
PRODID:icalendar-ruby
CALSCALE:GREGORIAN
METHOD:PUBLISH
BEGIN:VEVENT
DTSTAMP:20260421T132225Z
UID:10-1410870@abidingsavior.info
DTSTART:20261025T150000Z
DTEND:20261025T160000Z
CLASS:PUBLIC
CREATED:20260421T082009
DESCRIPTION:
LAST-MODIFIED:20260421T082009
LOCATION:
SUMMARY:Sunday Divine Service
URL;VALUE=URI:https://abidingsavior.info/events/sunday-divine-service/2026-
 10-25
END:VEVENT
END:VCALENDAR
