BEGIN:VCALENDAR
VERSION:2.0
PRODID:icalendar-ruby
CALSCALE:GREGORIAN
METHOD:PUBLISH
BEGIN:VEVENT
DTSTAMP:20260421T114634Z
UID:10-1410440@abidingsavior.info
DTSTART:20261018T150000Z
DTEND:20261018T160000Z
CLASS:PUBLIC
CREATED:20260420T211254
DESCRIPTION:
LAST-MODIFIED:20260420T211254
LOCATION:
SUMMARY:Sunday Divine Service
URL;VALUE=URI:https://abidingsavior.info/events/sunday-divine-service/2026-
 10-18
END:VEVENT
END:VCALENDAR
